BEGIN:VCALENDAR
VERSION:2.0
PRODID:-//Sabre//Sabre VObject 4.5.8//EN
CALSCALE:GREGORIAN
BEGIN:VEVENT
UID:sabre-vobject-674dfdb8-debd-4fea-a02a-129ae9f95e94
DTSTAMP:20260422T004001Z
SUMMARY:Eröffnung der Ausstellung "Protestschriften der Zeugen Jehovas im 
 Nationalsozialismus"
DESCRIPTION:https://regioningolstadt.com/eroeffnung-der-ausstellung-protest
 schriften-der-zeugen-jehovas-im-nationalsozialismus_id33514
DTSTART;TZID=Europe/Berlin:20240707T170000
DTEND;TZID=Europe/Berlin:20240707T180000
LOCATION:Barocksaal im Stadtmuseum Ingolstadt\, Auf der Schanz 45\, 85049 I
 ngolstadt
END:VEVENT
END:VCALENDAR
