BEGIN:VCALENDAR
VERSION:2.0
PRODID:-//Sabre//Sabre VObject 4.5.8//EN
CALSCALE:GREGORIAN
BEGIN:VEVENT
UID:sabre-vobject-8b0d0f34-77ea-4e92-aaea-7e02d9313ddf
DTSTAMP:20260424T035509Z
SUMMARY:Spannende Foschung an neuen\, relevanten Themen: Modelle\, Virtual 
 Reality und Simulationen als wichtige Grundlage für erfahrbare Forschung 
 und Entwicklung.
DESCRIPTION:https://regioningolstadt.com/spannende-foschung-an-neuen-releva
 nten-themen-modelle-virtual-reality-und-simulationen-als-wichtige-grundlag
 e-fuer-erfahrbare-forschung-und-entwicklung_id33511
DTSTART;TZID=Europe/Berlin:20240614T133000
DURATION:PT30M
LOCATION:Technische Hochschule Ingolstadt\, \,  Ingolstadt
END:VEVENT
END:VCALENDAR
