BEGIN:VCALENDAR
VERSION:2.0
PRODID:-//Sabre//Sabre VObject 4.5.8//EN
CALSCALE:GREGORIAN
BEGIN:VEVENT
UID:sabre-vobject-9d623998-5304-421c-aed1-776bbbe4c9d8
DTSTAMP:20260423T191329Z
SUMMARY:Potenzial von Drohnentechnologie - Nicht nur für Reiche\, sondern 
 eine Technologie für uns alle.
DESCRIPTION:https://regioningolstadt.com/potenzial-von-drohnentechnologie-n
 icht-nur-fuer-reiche-sondern-eine-technologie-fuer-uns-alle_id33510
DTSTART;TZID=Europe/Berlin:20240613T170000
DURATION:PT30M
LOCATION:Technische Hochschule Ingolstadt\, \,  Ingolstadt
END:VEVENT
END:VCALENDAR
