BEGIN:VCALENDAR
VERSION:2.0
PRODID:-//Sabre//Sabre VObject 4.5.8//EN
CALSCALE:GREGORIAN
BEGIN:VEVENT
UID:sabre-vobject-366ffc1d-1814-4850-b8d2-ace1c9288f2b
DTSTAMP:20260423T160303Z
SUMMARY:Digitale Zwillinge als Datenlieferant und wichtiges Bindeglied zwis
 chen theoretischer und praktischer Forschung
DESCRIPTION:https://regioningolstadt.com/digitale-zwillinge-als-datenliefer
 ant-und-wichtiges-bindeglied-zwischen-theoretischer-und-praktischer-forsch
 ung_id33509
DTSTART;TZID=Europe/Berlin:20240613T160000
DURATION:PT30M
LOCATION:Technische Hochschule Ingolstadt\, \,  Ingolstadt
END:VEVENT
END:VCALENDAR
