BEGIN:VCALENDAR
VERSION:2.0
PRODID:-//Sabre//Sabre VObject 4.5.8//EN
CALSCALE:GREGORIAN
BEGIN:VEVENT
UID:sabre-vobject-e131f4d2-c2ed-447e-b821-2081b8592fd4
DTSTAMP:20260425T203159Z
SUMMARY:Azubi Akademie Ingolstadt
DESCRIPTION:https://regioningolstadt.com/azubi-akademie-ingolstadt_id33507
DTSTART;TZID=Europe/Berlin:20240606T153000
DTEND;TZID=Europe/Berlin:20240606T161500
LOCATION:Online-Veranstaltung\, \,  
END:VEVENT
END:VCALENDAR
