BEGIN:VCALENDAR
VERSION:2.0
PRODID:-//Sabre//Sabre VObject 4.5.8//EN
CALSCALE:GREGORIAN
BEGIN:VEVENT
UID:sabre-vobject-1f1e6a3c-afa6-4a06-995a-d6fd466e4623
DTSTAMP:20260420T113205Z
SUMMARY:Künstliche Intelligenz - Wer steuert eigentlich die Fluggeräte de
 r Zukunft und wie funktioniert autonomes Fliegen?
DESCRIPTION:https://regioningolstadt.com/kuenstliche-intelligenz-wer-steuer
 t-eigentlich-die-fluggeraete-der-zukunft-und-wie-funktioniert-autonomes-fl
 iegen_id33506
DTSTART;TZID=Europe/Berlin:20240531T140000
DURATION:PT30M
LOCATION:Technische Hochschule Ingolstadt\, \,  Ingolstadt
END:VEVENT
END:VCALENDAR
