BEGIN:VCALENDAR
VERSION:2.0
PRODID:-//Sabre//Sabre VObject 4.5.8//EN
CALSCALE:GREGORIAN
BEGIN:VEVENT
UID:sabre-vobject-7c6e079c-a026-438e-90c3-490997b28bd4
DTSTAMP:20260424T025819Z
SUMMARY:Klimagasmessungen  Erkenntnisse aus dem Boden
DESCRIPTION:https://regioningolstadt.com/klimagasmessungen-erkenntnisse-aus
 -dem-boden_id33491
DTSTART;TZID=Europe/Berlin:20240724T180000
DTEND;TZID=Europe/Berlin:20240724T200000
LOCATION:Versuchsfläche bei Lampertshofen\, Feldweg zwischen Lampertshofen
  und Eppertshofen Koordinaten 48°37'33.6"N 11°13'05.6"E\, 86562 Berg im 
 Gau
END:VEVENT
END:VCALENDAR
