BEGIN:VCALENDAR
VERSION:2.0
PRODID:-//Sabre//Sabre VObject 4.5.8//EN
CALSCALE:GREGORIAN
BEGIN:VEVENT
UID:sabre-vobject-9c49e89a-89ee-4109-918e-d6b45307ffd0
DTSTAMP:20260420T041015Z
SUMMARY:Exkursion in den Baierner Flecken
DESCRIPTION:https://regioningolstadt.com/exkursion-in-den-baierner-flecken_
 id33489
DTSTART;TZID=Europe/Berlin:20240719T150000
DTEND;TZID=Europe/Berlin:20240719T170000
LOCATION:Dorfgemeinschaftshaus Hollenbach\, Lindenstraße 22\, 86676 Ehekir
 chen
END:VEVENT
END:VCALENDAR
