BEGIN:VCALENDAR
VERSION:2.0
PRODID:-//Sabre//Sabre VObject 4.5.8//EN
CALSCALE:GREGORIAN
BEGIN:VEVENT
UID:sabre-vobject-42d5de91-17c5-4b18-9e06-fba0c3754e61
DTSTAMP:20260419T152026Z
SUMMARY:Klimafaktor Donaumoos  ein Moor mit Potenzial
DESCRIPTION:https://regioningolstadt.com/klimafaktor-donaumoos-ein-moor-mit
 -potenzial_id33487
DTSTART;TZID=Europe/Berlin:20240717T180000
DTEND;TZID=Europe/Berlin:20240717T200000
LOCATION:Bücherturm\, Séter Platz 1\, 86633 Neuburg
END:VEVENT
END:VCALENDAR
