BEGIN:VCALENDAR
VERSION:2.0
PRODID:-//Sabre//Sabre VObject 4.5.8//EN
CALSCALE:GREGORIAN
BEGIN:VEVENT
UID:sabre-vobject-65c9e93e-294e-4eeb-a9bf-c825b049f17f
DTSTAMP:20260424T220227Z
SUMMARY:Sommerfest im Piuspark
DESCRIPTION:https://regioningolstadt.com/sommerfest-im-piuspark_id33479
DTSTART;TZID=Europe/Berlin:20240615T160000
DTEND;TZID=Europe/Berlin:20240615T220000
LOCATION:Piuspark\, Am Westpark \, 85055 Ingolstadt
END:VEVENT
END:VCALENDAR
