BEGIN:VCALENDAR
VERSION:2.0
PRODID:-//Sabre//Sabre VObject 4.5.8//EN
CALSCALE:GREGORIAN
BEGIN:VEVENT
UID:sabre-vobject-d77efe95-f594-49a0-9583-732938994075
DTSTAMP:20260423T235624Z
SUMMARY:Verkaufen über Facebook\, Instagram & Co.
DESCRIPTION:https://regioningolstadt.com/verkaufen-ueber-facebook-instagram
 -co_id33428
DTSTART;TZID=Europe/Berlin:20240724T083000
DTEND;TZID=Europe/Berlin:20240724T093000
LOCATION:Online-Veranstaltung\, \,  
END:VEVENT
END:VCALENDAR
