BEGIN:VCALENDAR
VERSION:2.0
PRODID:-//Sabre//Sabre VObject 4.5.8//EN
CALSCALE:GREGORIAN
BEGIN:VEVENT
UID:sabre-vobject-c9b4d839-53ad-436d-98f9-1b00e9abb55f
DTSTAMP:20260425T232151Z
SUMMARY:Transform.10 Workshop: Effizientes Reporting und strategische Nachh
 altigkeit - Die Doppelte Wesentlichkeitsanalyse nach CSRD
DESCRIPTION:https://regioningolstadt.com/transform-10-workshop-effizientes-
 reporting-und-strategische-nachhaltigkeit-die-doppelte-wesentlichkeitsanal
 yse-nach-csrd_id33425
DTSTART;TZID=Europe/Berlin:20240618T140000
DTEND;TZID=Europe/Berlin:20240618T180000
LOCATION:Neues Dalwigk - 5. Stock\, Schloßlände 27\, 85049 Ingolstadt
END:VEVENT
END:VCALENDAR
