BEGIN:VCALENDAR
VERSION:2.0
PRODID:-//Sabre//Sabre VObject 4.5.8//EN
CALSCALE:GREGORIAN
BEGIN:VEVENT
UID:sabre-vobject-3492f0e6-8305-4ad8-b22f-985a6b3efddb
DTSTAMP:20260423T034254Z
SUMMARY:Boule-Spiel auf dem Karlsplatz
DESCRIPTION:https://regioningolstadt.com/boule-spiel-auf-dem-karlsplatz_id3
 3422
DTSTART;TZID=Europe/Berlin:20260424T140000
DURATION:PT30M
LOCATION:Historischer Karlsplatz\, Karlsplatz\, 86633 Neuburg an der Donau
END:VEVENT
END:VCALENDAR
