BEGIN:VCALENDAR
VERSION:2.0
PRODID:-//Sabre//Sabre VObject 4.5.8//EN
CALSCALE:GREGORIAN
BEGIN:VEVENT
UID:sabre-vobject-8d68287f-7b75-4c4d-a000-fb5164bc31da
DTSTAMP:20260422T185002Z
SUMMARY:Personal als Nachhaltigkeitstreiber
DESCRIPTION:https://regioningolstadt.com/personal-als-nachhaltigkeitstreibe
 r_id33414
DTSTART;TZID=Europe/Berlin:20240612T100000
DTEND;TZID=Europe/Berlin:20240612T110000
LOCATION:Online-Veranstaltung\, \,  
END:VEVENT
END:VCALENDAR
