BEGIN:VCALENDAR
VERSION:2.0
PRODID:-//Sabre//Sabre VObject 4.5.8//EN
CALSCALE:GREGORIAN
BEGIN:VEVENT
UID:sabre-vobject-77b033f2-338a-4553-b5ff-99639958403c
DTSTAMP:20260423T033556Z
SUMMARY:Gekommen\, um zu bleiben! Onboardingprozesse gestalten
DESCRIPTION:https://regioningolstadt.com/gekommen-um-zu-bleiben-onboardingp
 rozesse-gestalten_id33413
DTSTART;TZID=Europe/Berlin:20240611T110000
DTEND;TZID=Europe/Berlin:20240611T120000
LOCATION:Online-Veranstaltung\, \,  
END:VEVENT
END:VCALENDAR
