BEGIN:VCALENDAR
VERSION:2.0
PRODID:-//Sabre//Sabre VObject 4.5.8//EN
CALSCALE:GREGORIAN
BEGIN:VEVENT
UID:sabre-vobject-2879afcb-043d-4ea1-97d1-bba5d418ad39
DTSTAMP:20260423T153350Z
SUMMARY:Azubis finden durch „Elternmarketing“
DESCRIPTION:https://regioningolstadt.com/azubis-finden-durch-elternmarketin
 g_id33412
DTSTART;TZID=Europe/Berlin:20240610T093000
DTEND;TZID=Europe/Berlin:20240610T100000
LOCATION:Online-Veranstaltung\, \,  
END:VEVENT
END:VCALENDAR
