BEGIN:VCALENDAR
VERSION:2.0
PRODID:-//Sabre//Sabre VObject 4.5.8//EN
CALSCALE:GREGORIAN
BEGIN:VEVENT
UID:sabre-vobject-5d9387ac-10b3-44f0-8e9a-a19e92b1230f
DTSTAMP:20260421T191516Z
SUMMARY:Job Branding – Lust auf den Job machen
DESCRIPTION:https://regioningolstadt.com/job-branding-lust-auf-den-job-mach
 en_id33411
DTSTART;TZID=Europe/Berlin:20240604T100000
DTEND;TZID=Europe/Berlin:20240604T104000
LOCATION:Online-Veranstaltung\, \,  
END:VEVENT
END:VCALENDAR
