BEGIN:VCALENDAR
VERSION:2.0
PRODID:-//Sabre//Sabre VObject 4.5.8//EN
CALSCALE:GREGORIAN
BEGIN:VEVENT
UID:sabre-vobject-dff9cc77-9a44-4c0e-8062-7fe5d10f6106
DTSTAMP:20260423T222259Z
SUMMARY:Georgisches Kammerorchester. Abo 9
DESCRIPTION:https://regioningolstadt.com/georgisches-kammerorchester-abo-9_
 id33305
DTSTART;TZID=Europe/Berlin:20250515T200000
DURATION:PT30M
LOCATION:Festsaal im Stadttheater\, Schloßlände 1\, 85049 Ingolstadt
END:VEVENT
END:VCALENDAR
