BEGIN:VCALENDAR
VERSION:2.0
PRODID:-//Sabre//Sabre VObject 4.5.8//EN
CALSCALE:GREGORIAN
BEGIN:VEVENT
UID:sabre-vobject-c9007006-aaa6-4199-ba24-01300c7e65c5
DTSTAMP:20260421T211346Z
SUMMARY:Georgisches Kammerorchester: 2. Familienkonzert
DESCRIPTION:https://regioningolstadt.com/georgisches-kammerorchester-2-fami
 lienkonzert_id33301
DTSTART;TZID=Europe/Berlin:20250329T160000
DURATION:PT30M
LOCATION:Festsaal im Stadttheater\, Schloßlände 1\, 85049 Ingolstadt
END:VEVENT
END:VCALENDAR
