BEGIN:VCALENDAR
VERSION:2.0
PRODID:-//Sabre//Sabre VObject 4.5.8//EN
CALSCALE:GREGORIAN
BEGIN:VEVENT
UID:sabre-vobject-30d6f1fa-3d0f-423b-9798-22c416c235ff
DTSTAMP:20260421T234946Z
SUMMARY:Georgisches Kammerorchester: Abo 5
DESCRIPTION:https://regioningolstadt.com/georgisches-kammerorchester-abo-5_
 id33297
DTSTART;TZID=Europe/Berlin:20250116T000000
DURATION:PT30M
LOCATION:Festsaal im Stadttheater\, Schloßlände 1\, 85049 Ingolstadt
END:VEVENT
END:VCALENDAR
