BEGIN:VCALENDAR
VERSION:2.0
PRODID:-//Sabre//Sabre VObject 4.5.8//EN
CALSCALE:GREGORIAN
BEGIN:VEVENT
UID:sabre-vobject-5c0c27cb-7c30-4a6e-a337-9cc6fd2ebeaa
DTSTAMP:20260423T023816Z
SUMMARY:Bürgersprechstunde über Mediation
DESCRIPTION:https://regioningolstadt.com/buergersprechstunde-ueber-mediatio
 n_id33289
DTSTART;TZID=Europe/Berlin:20240612T183000
DTEND;TZID=Europe/Berlin:20240612T193000
LOCATION:Bürgerhaus\, Fechtgasse 6\, 85049 ingolstadt
END:VEVENT
END:VCALENDAR
