BEGIN:VCALENDAR
VERSION:2.0
PRODID:-//Sabre//Sabre VObject 4.5.8//EN
CALSCALE:GREGORIAN
BEGIN:VEVENT
UID:sabre-vobject-3b8521a1-fdfb-44b9-b5a3-393d9dd1034c
DTSTAMP:20260424T013629Z
SUMMARY:Radtour ins Mittelalterliche Mittelfranken
DESCRIPTION:https://regioningolstadt.com/radtour-ins-mittelalterliche-mitte
 lfranken_id33286
DTSTART;TZID=Europe/Berlin:20240609T081500
DTEND;TZID=Europe/Berlin:20240609T193000
LOCATION:Hauptbahnhof Ingolstadt\, Bahnhofstraße 8\, 85051 Ingolstadt
END:VEVENT
END:VCALENDAR
