BEGIN:VCALENDAR
VERSION:2.0
PRODID:-//Sabre//Sabre VObject 4.5.8//EN
CALSCALE:GREGORIAN
BEGIN:VEVENT
UID:sabre-vobject-8f3dea8b-9cdb-427c-8f4c-536871eea78d
DTSTAMP:20260424T085127Z
SUMMARY:Radtour: Wörnitz und Donau-Ries
DESCRIPTION:https://regioningolstadt.com/radtour-woernitz-und-donau-ries_id
 33285
DTSTART;TZID=Europe/Berlin:20240608T071500
DTEND;TZID=Europe/Berlin:20240608T170000
LOCATION:Hauptbahnhof Ingolstadt\, Bahnhofstraße 8\, 85051 Ingolstadt
END:VEVENT
END:VCALENDAR
