BEGIN:VCALENDAR
VERSION:2.0
PRODID:-//Sabre//Sabre VObject 4.5.8//EN
CALSCALE:GREGORIAN
BEGIN:VEVENT
UID:sabre-vobject-a7f8e257-1833-4a1e-a181-50eaf3f41770
DTSTAMP:20260425T155546Z
SUMMARY:eat.READ.sleep. Podcast-Session im Kulturzentrum neun in Ingolstadt
DESCRIPTION:https://regioningolstadt.com/eat-read-sleep-podcast-session-im-
 kulturzentrum-neun-in-ingolstadt_id33284
DTSTART;TZID=Europe/Berlin:20240606T180000
DURATION:PT30M
LOCATION:Kulturzentrum neun\, Elisabethstraße 9 a\, 85051 Ingolstadt
END:VEVENT
END:VCALENDAR
