BEGIN:VCALENDAR
VERSION:2.0
PRODID:-//Sabre//Sabre VObject 4.5.8//EN
CALSCALE:GREGORIAN
BEGIN:VEVENT
UID:sabre-vobject-6e3ce69d-cdb2-4c8f-9469-c9a727f20a42
DTSTAMP:20260425T185342Z
SUMMARY:Feierabend-Radtour nach Karlshuld
DESCRIPTION:https://regioningolstadt.com/feierabend-radtour-nach-karlshuld_
 id33282
DTSTART;TZID=Europe/Berlin:20240606T170000
DTEND;TZID=Europe/Berlin:20240606T190000
LOCATION:RADHAUS Ingolstadt\, Bei der Arena 7\, 85053 Ingolstadt
END:VEVENT
END:VCALENDAR
