BEGIN:VCALENDAR
VERSION:2.0
PRODID:-//Sabre//Sabre VObject 4.5.8//EN
CALSCALE:GREGORIAN
BEGIN:VEVENT
UID:sabre-vobject-1f0736d9-77b6-4889-90f9-a2996d06598d
DTSTAMP:20260420T232042Z
SUMMARY:Verkehrsquiz
DESCRIPTION:https://regioningolstadt.com/verkehrsquiz_id33275
DTSTART;TZID=Europe/Berlin:20240601T140000
DTEND;TZID=Europe/Berlin:20240601T180000
LOCATION:Bürgerhaus Neuburger Kasten\, Fechtgasse 6\, 85049 Ingolstadt
END:VEVENT
END:VCALENDAR
