BEGIN:VCALENDAR
VERSION:2.0
PRODID:-//Sabre//Sabre VObject 4.5.8//EN
CALSCALE:GREGORIAN
BEGIN:VEVENT
UID:sabre-vobject-fe4f6469-f3eb-4398-8fb4-5f8855654294
DTSTAMP:20260426T004918Z
SUMMARY:DER NEUE DIYNSTAG  „PAPERCUT PORTRAIT“ ONLINE-WORKSHOP MIT SALO
 M BEAURY
DESCRIPTION:https://regioningolstadt.com/der-neue-diynstag-papercut-portrai
 t-online-workshop-mit-salom-beaury_id33230
DTSTART;TZID=Europe/Berlin:20240618T180000
DTEND;TZID=Europe/Berlin:20240618T200000
LOCATION:Museum für Konkrete Kunst ONLINE\, \,  
END:VEVENT
END:VCALENDAR
