BEGIN:VCALENDAR
VERSION:2.0
PRODID:-//Sabre//Sabre VObject 4.5.8//EN
CALSCALE:GREGORIAN
BEGIN:VEVENT
UID:sabre-vobject-1387259b-e835-4780-9940-020035fdad2f
DTSTAMP:20260425T215100Z
SUMMARY:Steuern & Digitalisierung: Die E-Rechnung kommt (hybrid & online)
DESCRIPTION:https://regioningolstadt.com/steuern-digitalisierung-die-e-rech
 nung-kommt-hybrid-online_id33201
DTSTART;TZID=Europe/Berlin:20240606T150000
DTEND;TZID=Europe/Berlin:20240606T190000
LOCATION:IHK München und Oberbayern\, Max-Joseph-Straße 2\, 80333 Münche
 n
END:VEVENT
END:VCALENDAR
