BEGIN:VCALENDAR
VERSION:2.0
PRODID:-//Sabre//Sabre VObject 4.5.8//EN
CALSCALE:GREGORIAN
BEGIN:VEVENT
UID:sabre-vobject-f0060713-5c82-41ff-ba1b-488eb32cfeca
DTSTAMP:20260420T013543Z
SUMMARY:Öffentliche Führung
DESCRIPTION:https://regioningolstadt.com/oeffentliche-fuehrung_id33194
DTSTART;TZID=Europe/Berlin:20240928T140000
DTEND;TZID=Europe/Berlin:20240928T160000
LOCATION:86529 Schrobenhausen\, Schloss Sandizell\, Schloßstraße 25\, 865
 29 Schrobenhausen
END:VEVENT
END:VCALENDAR
