BEGIN:VCALENDAR
VERSION:2.0
PRODID:-//Sabre//Sabre VObject 4.5.8//EN
CALSCALE:GREGORIAN
BEGIN:VEVENT
UID:sabre-vobject-82395ec0-eb02-4df6-9335-db3166812a5f
DTSTAMP:20260421T053908Z
SUMMARY:öffentliche Führung -AUSGEBUCHT-
DESCRIPTION:https://regioningolstadt.com/oeffentliche-fuehrung-ausgebucht_i
 d33193
DTSTART;TZID=Europe/Berlin:20240831T140000
DTEND;TZID=Europe/Berlin:20240831T160000
LOCATION:86529 Schrobenhausen\, Schloss Sandizell\, Schloßstraße 25\, 865
 29 Schrobenhausen
END:VEVENT
END:VCALENDAR
