BEGIN:VCALENDAR
VERSION:2.0
PRODID:-//Sabre//Sabre VObject 4.5.8//EN
CALSCALE:GREGORIAN
BEGIN:VEVENT
UID:sabre-vobject-58dbbe91-13f0-4eac-9834-f941b37721bd
DTSTAMP:20260422T162048Z
SUMMARY:Geführte Sternschanzenwanderung
DESCRIPTION:https://regioningolstadt.com/gefuehrte-sternschanzenwanderung_i
 d33160
DTSTART;TZID=Europe/Berlin:20240720T133000
DTEND;TZID=Europe/Berlin:20240723T000000
LOCATION:Neuburg an der Donau
END:VEVENT
END:VCALENDAR
