BEGIN:VCALENDAR
VERSION:2.0
PRODID:-//Sabre//Sabre VObject 4.5.8//EN
CALSCALE:GREGORIAN
BEGIN:VEVENT
UID:sabre-vobject-f87ae017-9f22-45ae-a1a8-e95bd0ec684e
DTSTAMP:20260423T054146Z
SUMMARY:Geführte Wanderung
DESCRIPTION:https://regioningolstadt.com/gefuehrte-wanderung_id33159
DTSTART;TZID=Europe/Berlin:20240629T140000
DTEND;TZID=Europe/Berlin:20240629T183000
LOCATION:Neuburg an der Donau
END:VEVENT
END:VCALENDAR
