BEGIN:VCALENDAR
VERSION:2.0
PRODID:-//Sabre//Sabre VObject 4.5.8//EN
CALSCALE:GREGORIAN
BEGIN:VEVENT
UID:sabre-vobject-e3bd3ec1-8ab3-4adf-873e-04a2eb9e233b
DTSTAMP:20260424T154003Z
SUMMARY:5 Säulen des Kneipp-Naturheilverfahrens
DESCRIPTION:https://regioningolstadt.com/5-saeulen-des-kneipp-naturheilverf
 ahrens_id33158
DTSTART;TZID=Europe/Berlin:20240517T000000
DURATION:PT30M
LOCATION:Neuburg an der Donau
END:VEVENT
END:VCALENDAR
