BEGIN:VCALENDAR
VERSION:2.0
PRODID:-//Sabre//Sabre VObject 4.5.8//EN
CALSCALE:GREGORIAN
BEGIN:VEVENT
UID:sabre-vobject-7507f911-01e8-4172-bccf-488626c550f8
DTSTAMP:20260419T124055Z
SUMMARY:Das Kriminal Dinner
DESCRIPTION:https://regioningolstadt.com/das-kriminal-dinner_id33141
DTSTART;TZID=Europe/Berlin:20241210T190000
DTEND;TZID=Europe/Berlin:20241210T223000
LOCATION:Wirtshaus am Auwaldsee\, Am Auwaldsee 20\, 85053 Ingolstadt
END:VEVENT
END:VCALENDAR
