BEGIN:VCALENDAR
VERSION:2.0
PRODID:-//Sabre//Sabre VObject 4.5.8//EN
CALSCALE:GREGORIAN
BEGIN:VEVENT
UID:sabre-vobject-c02dc6c0-85bd-46a0-b6a9-8bdccaa1b354
DTSTAMP:20260423T231801Z
SUMMARY:Radlertreff
DESCRIPTION:https://regioningolstadt.com/radlertreff_id33073
DTSTART;TZID=Europe/Berlin:20240613T183000
DTEND;TZID=Europe/Berlin:20240613T213000
LOCATION:Biergarten Zum Saliter\, Saliterweg 31\, 86633 Neuburg a.d. Donau
END:VEVENT
END:VCALENDAR
