BEGIN:VCALENDAR
VERSION:2.0
PRODID:-//Sabre//Sabre VObject 4.5.8//EN
CALSCALE:GREGORIAN
BEGIN:VEVENT
UID:sabre-vobject-495f2702-1e6c-44fb-ad9f-5ca049edd88f
DTSTAMP:20260425T123612Z
SUMMARY:Radlertreff
DESCRIPTION:https://regioningolstadt.com/radlertreff_id33072
DTSTART;TZID=Europe/Berlin:20240606T190000
DTEND;TZID=Europe/Berlin:20240606T213000
LOCATION:DJK Vereinsgaststätte\, Lindberghstraße 73\, 85051 Ingolstadt
END:VEVENT
END:VCALENDAR
