BEGIN:VCALENDAR
VERSION:2.0
PRODID:-//Sabre//Sabre VObject 4.5.8//EN
CALSCALE:GREGORIAN
BEGIN:VEVENT
UID:sabre-vobject-dfcbcdb0-0f24-4a9d-92b4-5b6aad508d2f
DTSTAMP:20260423T162356Z
SUMMARY:WAS IST MEINE ARBEIT WERT? HONORARE UND PREISE FESTLEGEN
DESCRIPTION:https://regioningolstadt.com/was-ist-meine-arbeit-wert-honorare
 -und-preise-festlegen_id33055
DTSTART;TZID=Europe/Berlin:20240703T110000
DTEND;TZID=Europe/Berlin:20240703T123000
LOCATION:Online\, \,  
END:VEVENT
END:VCALENDAR
