BEGIN:VCALENDAR
VERSION:2.0
PRODID:-//Sabre//Sabre VObject 4.5.8//EN
CALSCALE:GREGORIAN
BEGIN:VEVENT
UID:sabre-vobject-4b97d9d7-2dd1-4826-a3d4-e2c5fd12c363
DTSTAMP:20260423T035905Z
SUMMARY:KI und Recht - Vom Umgang mit geistigem Eigentum
DESCRIPTION:https://regioningolstadt.com/ki-und-recht-vom-umgang-mit-geisti
 gem-eigentum_id33053
DTSTART;TZID=Europe/Berlin:20240612T190000
DTEND;TZID=Europe/Berlin:20240612T210000
LOCATION:Collegium Georgianum\, Hohe-Schul-Straße 3\, 85049 Ingolstadt
END:VEVENT
END:VCALENDAR
