BEGIN:VCALENDAR
VERSION:2.0
PRODID:-//Sabre//Sabre VObject 4.5.8//EN
CALSCALE:GREGORIAN
BEGIN:VEVENT
UID:sabre-vobject-326da10a-0840-4322-8471-b6593930def9
DTSTAMP:20260421T064623Z
SUMMARY:Radtour ins Spargelland
DESCRIPTION:https://regioningolstadt.com/radtour-ins-spargelland_id33052
DTSTART;TZID=Europe/Berlin:20240602T100000
DTEND;TZID=Europe/Berlin:20240602T170000
LOCATION:RADHAUS Ingolstadt\, Bei der Arena 7\, 85053 Ingolstadt
END:VEVENT
END:VCALENDAR
