BEGIN:VCALENDAR
VERSION:2.0
PRODID:-//Sabre//Sabre VObject 4.5.8//EN
CALSCALE:GREGORIAN
BEGIN:VEVENT
UID:sabre-vobject-94dd9744-1f42-420e-bb5b-71dd5077728e
DTSTAMP:20260424T172459Z
SUMMARY:Schultüte basteln im Museum
DESCRIPTION:https://regioningolstadt.com/schultuete-basteln-im-museum_id330
 24
DTSTART;TZID=Europe/Berlin:20240727T110000
DTEND;TZID=Europe/Berlin:20240727T150000
LOCATION:Stadtmuseum im Kavalier Hepp\, Auf der Schanz 45\, 85049 Ingolstad
 t
END:VEVENT
END:VCALENDAR
