BEGIN:VCALENDAR
VERSION:2.0
PRODID:-//Sabre//Sabre VObject 4.5.8//EN
CALSCALE:GREGORIAN
BEGIN:VEVENT
UID:sabre-vobject-b5e32019-49d4-4d49-acf2-9fff2235eb40
DTSTAMP:20260423T210503Z
SUMMARY:Ganz besondere Pioniere in Ingolstadt: `Military Engineering' [MILE
 NG] in der NATO
DESCRIPTION:https://regioningolstadt.com/ganz-besondere-pioniere-in-ingolst
 adt-military-engineering-mileng-in-der-nato_id33023
DTSTART;TZID=Europe/Berlin:20240723T180000
DTEND;TZID=Europe/Berlin:20240723T200000
LOCATION:Barocksaal im Stadtmuseum Ingolstadt\, Auf der Schanz 45\, 85049 I
 ngolstadt
END:VEVENT
END:VCALENDAR
