BEGIN:VCALENDAR
VERSION:2.0
PRODID:-//Sabre//Sabre VObject 4.5.8//EN
CALSCALE:GREGORIAN
BEGIN:VEVENT
UID:sabre-vobject-0f0cf24d-0fb1-40ba-8d2c-ee4038de6213
DTSTAMP:20260423T043914Z
SUMMARY:Kinder im BGM: Kunst mit Naturfarben
DESCRIPTION:https://regioningolstadt.com/kinder-im-bgm-kunst-mit-naturfarbe
 n_id33022
DTSTART;TZID=Europe/Berlin:20240721T140000
DTEND;TZID=Europe/Berlin:20240721T163000
LOCATION:Bauerngerätemuseum\, Probststraße 13\, 85049 Ingolstadt
END:VEVENT
END:VCALENDAR
