BEGIN:VCALENDAR
VERSION:2.0
PRODID:-//Sabre//Sabre VObject 4.5.8//EN
CALSCALE:GREGORIAN
BEGIN:VEVENT
UID:sabre-vobject-a8f5529e-9f7f-48b2-971e-984fc316a03c
DTSTAMP:20260421T214417Z
SUMMARY:Protestschriften der Zeugen Jehovas im Nationalsozialismus.
DESCRIPTION:https://regioningolstadt.com/protestschriften-der-zeugen-jehova
 s-im-nationalsozialismus_id33018
DTSTART;TZID=Europe/Berlin:20240708T000000
DTEND;TZID=Europe/Berlin:20241020T000000
LOCATION:Archiv des Stadtmuseums\, Auf der Schanze 45\, 85049 Ingolstadt
END:VEVENT
END:VCALENDAR
