BEGIN:VCALENDAR
VERSION:2.0
PRODID:-//Sabre//Sabre VObject 4.5.8//EN
CALSCALE:GREGORIAN
BEGIN:VEVENT
UID:sabre-vobject-acef9380-1847-4918-9f6d-f993f6ab96b4
DTSTAMP:20260422T021043Z
SUMMARY:Ausstellungseröffnung: Protestschriften der Zeugen Jehovas im Nati
 onalsozialismus.
DESCRIPTION:https://regioningolstadt.com/ausstellungseroeffnung-protestschr
 iften-der-zeugen-jehovas-im-nationalsozialismus_id33016
DTSTART;TZID=Europe/Berlin:20240707T170000
DTEND;TZID=Europe/Berlin:20240707T180000
LOCATION:Barocksaal im Stadtmuseum Ingolstadt\, Auf der Schanz 45\, 85049 I
 ngolstadt
END:VEVENT
END:VCALENDAR
