BEGIN:VCALENDAR
VERSION:2.0
PRODID:-//Sabre//Sabre VObject 4.5.8//EN
CALSCALE:GREGORIAN
BEGIN:VEVENT
UID:sabre-vobject-7e800fe8-8f55-48ab-a32c-1b6cf9e81b93
DTSTAMP:20260424T085252Z
SUMMARY:Kinder im BGM: Waschtag!
DESCRIPTION:https://regioningolstadt.com/kinder-im-bgm-waschtag_id33015
DTSTART;TZID=Europe/Berlin:20240707T140000
DTEND;TZID=Europe/Berlin:20240707T160000
LOCATION:Bauerngerätemuseum\, Probststraße 13\, 85049 Ingolstadt
END:VEVENT
END:VCALENDAR
