BEGIN:VCALENDAR
VERSION:2.0
PRODID:-//Sabre//Sabre VObject 4.5.8//EN
CALSCALE:GREGORIAN
BEGIN:VEVENT
UID:sabre-vobject-ef6e5e06-3a0d-4f93-938f-0f6d5819d2f5
DTSTAMP:20260424T021549Z
SUMMARY:Impulse für Transformation - Europaweit erfolgreich durch Kooperat
 ionen
DESCRIPTION:https://regioningolstadt.com/impulse-fuer-transformation-europa
 weit-erfolgreich-durch-kooperationen_id33011
DTSTART;TZID=Europe/Berlin:20240614T083000
DTEND;TZID=Europe/Berlin:20240614T093000
LOCATION:Online-Veranstaltung\, \,  
END:VEVENT
END:VCALENDAR
