BEGIN:VCALENDAR
VERSION:2.0
PRODID:-//Sabre//Sabre VObject 4.5.8//EN
CALSCALE:GREGORIAN
BEGIN:VEVENT
UID:sabre-vobject-1f9680fa-e458-475e-b039-b0b7a93cecdb
DTSTAMP:20260423T213001Z
SUMMARY:Kinder im BGM: Natur-Malwerkstatt
DESCRIPTION:https://regioningolstadt.com/kinder-im-bgm-natur-malwerkstatt_i
 d33010
DTSTART;TZID=Europe/Berlin:20240609T140000
DTEND;TZID=Europe/Berlin:20240609T160000
LOCATION:Bauerngerätemuseum\, Probststraße 13\, 85049 Ingolstadt
END:VEVENT
END:VCALENDAR
