BEGIN:VCALENDAR
VERSION:2.0
PRODID:-//Sabre//Sabre VObject 4.5.8//EN
CALSCALE:GREGORIAN
BEGIN:VEVENT
UID:sabre-vobject-8f774ca4-164a-4965-8b54-c42ff279c1bc
DTSTAMP:20260425T110848Z
SUMMARY:Impulse für Transformation - Erfolgreich im Ausland durch Delegati
 onen und Messen
DESCRIPTION:https://regioningolstadt.com/impulse-fuer-transformation-erfolg
 reich-im-ausland-durch-delegationen-und-messen_id33009
DTSTART;TZID=Europe/Berlin:20240607T083000
DTEND;TZID=Europe/Berlin:20240607T093000
LOCATION:Online-Veranstaltung\, \,  
END:VEVENT
END:VCALENDAR
