BEGIN:VCALENDAR
VERSION:2.0
PRODID:-//Sabre//Sabre VObject 4.5.8//EN
CALSCALE:GREGORIAN
BEGIN:VEVENT
UID:sabre-vobject-c5918678-8df0-4f3e-bdbf-3b18213f9b7c
DTSTAMP:20260421T095150Z
SUMMARY:Kinder im BGM: Garten erleben
DESCRIPTION:https://regioningolstadt.com/kinder-im-bgm-garten-erleben_id330
 08
DTSTART;TZID=Europe/Berlin:20240602T140000
DTEND;TZID=Europe/Berlin:20240602T160000
LOCATION:Bauerngerätemuseum\, Probststraße 13\, 85049 Ingolstadt
END:VEVENT
END:VCALENDAR
