BEGIN:VCALENDAR
VERSION:2.0
PRODID:-//Sabre//Sabre VObject 4.5.8//EN
CALSCALE:GREGORIAN
BEGIN:VEVENT
UID:sabre-vobject-9713751f-94ea-49b7-8f79-cf2a5bcb5086
DTSTAMP:20260423T132013Z
SUMMARY:ABBA - The Concert
DESCRIPTION:https://regioningolstadt.com/abba-the-concert_id32969
DTSTART;TZID=Europe/Berlin:20250110T200000
DURATION:PT30M
LOCATION:Stadttheater Ingolstadt\, Schloßlände 1\, 85049 Ingolstadt
END:VEVENT
END:VCALENDAR
